BEGIN:VCALENDAR
VERSION:2.0
PRODID:-//HOAA Adoption Services - ECPv6.15.20//NONSGML v1.0//EN
CALSCALE:GREGORIAN
METHOD:PUBLISH
X-WR-CALNAME:HOAA Adoption Services
X-ORIGINAL-URL:https://adopthoaa.org
X-WR-CALDESC:Events for HOAA Adoption Services
REFRESH-INTERVAL;VALUE=DURATION:PT1H
X-Robots-Tag:noindex
X-PUBLISHED-TTL:PT1H
BEGIN:VTIMEZONE
TZID:America/New_York
BEGIN:DAYLIGHT
TZOFFSETFROM:-0500
TZOFFSETTO:-0400
TZNAME:EDT
DTSTART:20230312T070000
END:DAYLIGHT
BEGIN:STANDARD
TZOFFSETFROM:-0400
TZOFFSETTO:-0500
TZNAME:EST
DTSTART:20231105T060000
END:STANDARD
BEGIN:DAYLIGHT
TZOFFSETFROM:-0500
TZOFFSETTO:-0400
TZNAME:EDT
DTSTART:20240310T070000
END:DAYLIGHT
BEGIN:STANDARD
TZOFFSETFROM:-0400
TZOFFSETTO:-0500
TZNAME:EST
DTSTART:20241103T060000
END:STANDARD
BEGIN:DAYLIGHT
TZOFFSETFROM:-0500
TZOFFSETTO:-0400
TZNAME:EDT
DTSTART:20250309T070000
END:DAYLIGHT
BEGIN:STANDARD
TZOFFSETFROM:-0400
TZOFFSETTO:-0500
TZNAME:EST
DTSTART:20251102T060000
END:STANDARD
END:VTIMEZONE
BEGIN:VEVENT
DTSTART;TZID=America/New_York:20241121T183000
DTEND;TZID=America/New_York:20241121T193000
DTSTAMP:20260420T074036
CREATED:20241105T093630Z
LAST-MODIFIED:20241121T140937Z
UID:1296-1732213800-1732217400@adopthoaa.org
SUMMARY:Adoption Information Session - November 2024 (VIRTUAL)
DESCRIPTION:Join us for an informative session about adopting from foster care! This event is designed for families curious about the adoption journey and eager to learn how they can provide a loving\, stable home to a child in need. You’ll learn about the steps involved in adopting from foster care. Bring your questions\, meet other families\, and find out how you can make a meaningful difference. Light refreshments will be provided. We look forward to helping you take the first steps toward building your family through adoption!
URL:https://adopthoaa.org/event/adoption-information-session-november-2024/
CATEGORIES:HOAA Events
ATTACH;FMTTYPE=image/png:https://adopthoaa.org/wp-content/uploads/2024/11/AP-Info-Flyer-Hidden-Springs-1-Revised.png
ORGANIZER;CN="HOAA":MAILTO:info@adopthoaa.org
END:VEVENT
END:VCALENDAR